BEGIN:VCALENDAR
VERSION:2.0
PRODID:SchoolNow
CALSCALE:GREGORIAN
BEGIN:VEVENT
UID:cecb743a-81d4-11f0-9498-0affc8c049ad
DTSTAMP:20260311T204025Z
SUMMARY:CDD Board Meeting - Mar. 2026 - Cancelled
LOCATION:261  North  University  Drive\,  Suite  500\,  Plantation\,  Flori
 da 33324
URL;VALUE=URI:https://www.mapleridgecdd.com/calendar/8541273/cdd-board-meet
 ing-mar-2026
DTSTART:20260309T140000Z
DTEND:20260309T150000Z
END:VEVENT
END:VCALENDAR
