BEGIN:VCALENDAR
VERSION:2.0
PRODID:SchoolNow
CALSCALE:GREGORIAN
BEGIN:VEVENT
UID:b5df1f12-81d4-11f0-8e69-0a58a9feac02
DTSTAMP:20251103T222145Z
SUMMARY:CDD Board Meeting - Nov. 2025
LOCATION:261  North  University  Drive\,  Suite  500\,  Plantation\,  Flori
 da 33324
URL;VALUE=URI:https://www.mapleridgecdd.com/calendar/8541271/cdd-board-meet
 ing-nov-2025
DTSTART:20251110T150000Z
DTEND:20251110T160000Z
ATTACH;FILENAME=2025-11-10 Maple Ridge Agenda.pdf;FMTTYPE=application/pdf:h
 ttps://campussuite-storage.s3.amazonaws.com/prod/1559013/3d738cae-608b-11e
 a-a641-1255ad83f1a7/3031086/7952350a-b903-11f0-b52d-0a58a9feac02/file/2025
 -11-10 Maple Ridge Agenda.pdf
END:VEVENT
END:VCALENDAR
