BEGIN:VCALENDAR
VERSION:2.0
PRODID:SchoolNow
CALSCALE:GREGORIAN
BEGIN:VEVENT
UID:aa486d3e-81d4-11f0-9974-0e8b14fcf377
DTSTAMP:20251017T143152Z
SUMMARY:CDD Board Meeting - Oct 2025
LOCATION:261  North  University  Drive\,  Suite  500\,  Plantation\,  Flori
 da 33324
URL;VALUE=URI:https://www.mapleridgecdd.com/calendar/8541270/cdd-board-meet
 ing-oct-2025
DTSTART:20251020T140000Z
DTEND:20251020T150000Z
ATTACH;FILENAME=2025-10-20 Maple Ridge Agenda.pdf;FMTTYPE=application/pdf:h
 ttps://campussuite-storage.s3.amazonaws.com/prod/1559013/3d738cae-608b-11e
 a-a641-1255ad83f1a7/3021025/668c5fc6-a90f-11f0-80af-0ed8dff7a739/file/2025
 -10-20 Maple Ridge Agenda.pdf
END:VEVENT
END:VCALENDAR
