BEGIN:VCALENDAR
VERSION:2.0
PRODID:SchoolNow
CALSCALE:GREGORIAN
BEGIN:VEVENT
UID:e56f14b4-6ab8-11ef-b504-02e0d4c88f9f
DTSTAMP:20250728T161105Z
SUMMARY:CDD Board Meeting - Aug. 2025 - Cancelled
LOCATION:261  North  University  Drive\,  Suite  500\,  Plantation\,  Flori
 da 33324
URL;VALUE=URI:https://www.mapleridgecdd.com/calendar/6521166/cdd-board-meet
 ing-aug-2025-cancelled
DTSTART:20250811T140000Z
DTEND:20250811T150000Z
END:VEVENT
END:VCALENDAR
