BEGIN:VCALENDAR
VERSION:2.0
PRODID:SchoolNow
CALSCALE:GREGORIAN
BEGIN:VEVENT
UID:da99c110-6ab8-11ef-9ffc-02976be2a577
DTSTAMP:20250725T173440Z
SUMMARY:CDD Board Meeting - Jul. 2025 - Cancelled
LOCATION:261  North  University  Drive\,  Suite  500\,  Plantation\,  Flori
 da 33324
URL;VALUE=URI:https://www.mapleridgecdd.com/calendar/6521165/cdd-board-meet
 ing-jul-2025
DTSTART:20250728T143000Z
DTEND:20250728T153000Z
ATTACH;FILENAME=2025-07-28 Maple Ridge Agenda.pdf;FMTTYPE=application/pdf:h
 ttps://campussuite-storage.s3.amazonaws.com/prod/1559013/3d738cae-608b-11e
 a-a641-1255ad83f1a7/2983832/1aca97ec-666b-11f0-85b8-0a58a9feac02/file/2025
 -07-28 Maple Ridge Agenda.pdf
END:VEVENT
END:VCALENDAR
